BEGIN:VCALENDAR
VERSION:2.0
PRODID:-//Santo Matheus Depok - ECPv6.15.20//NONSGML v1.0//EN
CALSCALE:GREGORIAN
METHOD:PUBLISH
X-WR-CALNAME:Santo Matheus Depok
X-ORIGINAL-URL:https://www.santomatheusdepok.org
X-WR-CALDESC:Events for Santo Matheus Depok
REFRESH-INTERVAL;VALUE=DURATION:PT1H
X-Robots-Tag:noindex
X-PUBLISHED-TTL:PT1H
BEGIN:VTIMEZONE
TZID:Asia/Krasnoyarsk
BEGIN:STANDARD
TZOFFSETFROM:+0700
TZOFFSETTO:+0700
TZNAME:+07
DTSTART:20200101T000000
END:STANDARD
END:VTIMEZONE
BEGIN:VEVENT
DTSTART;TZID=Asia/Krasnoyarsk:20211203T080000
DTEND;TZID=Asia/Krasnoyarsk:20211203T170000
DTSTAMP:20260423T185215
CREATED:20210526T145906Z
LAST-MODIFIED:20210526T145906Z
UID:546-1638518400-1638550800@www.santomatheusdepok.org
SUMMARY:Jumat Pertama
DESCRIPTION:Hari\nTgl\nKeterangan\nTL\nKoor\nTata Laksana\nTata Bunga\nKebersihan\nOrganis\nLektor\nMazmur\n\n\nJumat\n3\nJumat Pertama\nC\nPaulus\nYohanes\nIgnatius\nYoseph\nPatricia Miranda\nUrsula Ekanurani
URL:https://www.santomatheusdepok.org/event/jumat-pertama-6/
LOCATION:Gereja Santo Matheus Depok\, Jl. Sadewa Raya No.1\, Mekar Jaya\, Kec. Sukmajaya\, Kota Depok\, Jawa Barat\, 16454\, Indonesia
CATEGORIES:Ibadah Jumat
END:VEVENT
BEGIN:VEVENT
DTSTART;TZID=Asia/Krasnoyarsk:20211127T080000
DTEND;TZID=Asia/Krasnoyarsk:20211128T170000
DTSTAMP:20260423T185215
CREATED:20210526T145808Z
LAST-MODIFIED:20210526T145808Z
UID:544-1638000000-1638118800@www.santomatheusdepok.org
SUMMARY:HM Adven I
DESCRIPTION:Hari\nTgl\nKeterangan\nTL\nKoor\nTata Laksana\nTata Bunga\nKebersihan\nOrganis\nLektor\nMazmur\n\n\nSabtu\n27\n\nHM Adven I\n\nC\nGregorius\nGregorius\n\nGregorius\n\n\nSPM\n\nAnastasia K Niken\nFlorentina Ari Kartika\nAgnes Diah Paramita\n\n\nMinggu\n28\nC\nFIDE\nSPM\nMaria Michela Rosaria\nWelmina J Umbas\nFernandus Antonius Sinaga
URL:https://www.santomatheusdepok.org/event/hm-adven-i/
LOCATION:Gereja Santo Matheus Depok\, Jl. Sadewa Raya No.1\, Mekar Jaya\, Kec. Sukmajaya\, Kota Depok\, Jawa Barat\, 16454\, Indonesia
CATEGORIES:Adven,Ibadah Minggu
END:VEVENT
BEGIN:VEVENT
DTSTART;TZID=Asia/Krasnoyarsk:20211120T080000
DTEND;TZID=Asia/Krasnoyarsk:20211121T170000
DTSTAMP:20260423T185215
CREATED:20210526T145649Z
LAST-MODIFIED:20210526T145649Z
UID:542-1637395200-1637514000@www.santomatheusdepok.org
SUMMARY:Hari Raya Tuhan Kita Yesus Kristus Raja Semesta Alam
DESCRIPTION:Hari\nTgl\nKeterangan\nTL\nKoor\nTata Laksana\nTata Bunga\nKebersihan\nOrganis\nLektor\nMazmur\n\n\nSabtu\n20\n\nHari Raya Tuhan Kita Yesus Kristus Raja Semesta Alam\n\nB\nOMK\nYakobus\n\nYakobus\n\n\nPaulus\n\nCatherine\nReny\nBernadete Inge Ambar\n\n\nMinggu\n21\nB\nPetrus\nPaulus\nJohan Papa\nB Wikasari\nIne Maria
URL:https://www.santomatheusdepok.org/event/hari-raya-tuhan-kita-yesus-kristus-raja-semesta-alam/
LOCATION:Gereja Santo Matheus Depok\, Jl. Sadewa Raya No.1\, Mekar Jaya\, Kec. Sukmajaya\, Kota Depok\, Jawa Barat\, 16454\, Indonesia
CATEGORIES:Hari Raya
END:VEVENT
BEGIN:VEVENT
DTSTART;TZID=Asia/Krasnoyarsk:20211113T080000
DTEND;TZID=Asia/Krasnoyarsk:20211114T170000
DTSTAMP:20260423T185215
CREATED:20210526T145604Z
LAST-MODIFIED:20210526T145604Z
UID:540-1636790400-1636909200@www.santomatheusdepok.org
SUMMARY:HM Biasa XXXIII
DESCRIPTION:Hari\nTgl\nKeterangan\nTL\nKoor\nTata Laksana\nTata Bunga\nKebersihan\nOrganis\nLektor\nMazmur\n\n\nSabtu\n13\n\nHM Biasa XXXIII\n\nB\nElizabeth\nWKRI\n\nYohanes\n\n\nFX\n\nHiasinta Galistheda\nAviarini\nAnna Triprasidhani\n\n\nMinggu\n14\nB\nYoseph\nFX\nIrene tantri H\nEllena Valencia\nAnastasia E Primasanti
URL:https://www.santomatheusdepok.org/event/hm-biasa-xxxiii/
LOCATION:Gereja Santo Matheus Depok\, Jl. Sadewa Raya No.1\, Mekar Jaya\, Kec. Sukmajaya\, Kota Depok\, Jawa Barat\, 16454\, Indonesia
CATEGORIES:Ibadah Minggu
ATTACH;FMTTYPE=image/jpeg:https://www.santomatheusdepok.org/wp-content/uploads/2021/05/WhatsApp-Image-2021-03-17-at-18.46.23.jpeg
END:VEVENT
BEGIN:VEVENT
DTSTART;TZID=Asia/Krasnoyarsk:20211106T080000
DTEND;TZID=Asia/Krasnoyarsk:20211107T170000
DTSTAMP:20260423T185215
CREATED:20210526T145514Z
LAST-MODIFIED:20210526T145514Z
UID:538-1636185600-1636304400@www.santomatheusdepok.org
SUMMARY:HM Biasa XXXII
DESCRIPTION:Hari\nTgl\nKeterangan\nTL\nKoor\nTata Laksana\nTata Bunga\nKebersihan\nOrganis\nLektor\nMazmur\n\n\nSabtu\n6\n\nHM Biasa XXXII\n\nB\nIgnatius\nElizabeth\n\nElizabeth\n\n\nPetrus\n\nYohana Esperansa\nEmilia\nTeofilus I Damanik\n\n\nMinggu\n7\nB\nYakobus\nOMK\nAnastasia K Niken\nBernadete Inge Ambar\nJulinta Paulina Ginting
URL:https://www.santomatheusdepok.org/event/hm-biasa-xxxii/
LOCATION:Gereja Santo Matheus Depok\, Jl. Sadewa Raya No.1\, Mekar Jaya\, Kec. Sukmajaya\, Kota Depok\, Jawa Barat\, 16454\, Indonesia
CATEGORIES:Ibadah Minggu
ATTACH;FMTTYPE=image/jpeg:https://www.santomatheusdepok.org/wp-content/uploads/2021/05/WhatsApp-Image-2021-03-17-at-18.46.23.jpeg
END:VEVENT
BEGIN:VEVENT
DTSTART;TZID=Asia/Krasnoyarsk:20211105T080000
DTEND;TZID=Asia/Krasnoyarsk:20211105T170000
DTSTAMP:20260423T185215
CREATED:20210526T145429Z
LAST-MODIFIED:20210526T145429Z
UID:536-1636099200-1636131600@www.santomatheusdepok.org
SUMMARY:Jumat Pertama
DESCRIPTION:Hari\nTgl\nKeterangan\nTL\nKoor\nTata Laksana\nTata Bunga\nKebersihan\nOrganis\nLektor\nMazmur\n\n\nJumat\n5\nJumat Pertama\nB\nKoor Cowok\nPetrus\nElizabeth\nPetrus\nF Sulis Wicahyadi\nGregorius Angga
URL:https://www.santomatheusdepok.org/event/jumat-pertama-5/
LOCATION:Gereja Santo Matheus Depok\, Jl. Sadewa Raya No.1\, Mekar Jaya\, Kec. Sukmajaya\, Kota Depok\, Jawa Barat\, 16454\, Indonesia
CATEGORIES:Ibadah Jumat
END:VEVENT
BEGIN:VEVENT
DTSTART;TZID=Asia/Krasnoyarsk:20211102T080000
DTEND;TZID=Asia/Krasnoyarsk:20211102T170000
DTSTAMP:20260423T185215
CREATED:20210526T145324Z
LAST-MODIFIED:20210526T145324Z
UID:534-1635840000-1635872400@www.santomatheusdepok.org
SUMMARY:Pengenangan Arwah Semua Orang Beriman
DESCRIPTION:Hari\nTgl\nKeterangan\nTL\nKoor\nTata Laksana\nTata Bunga\nKebersihan\nOrganis\nLektor\nMazmur\n\n\nSelasa\n2\nPengenangan Arwah Semua Orang Beriman\nB\nWKRI\nYoseph\nSPM\nYohanes\nYoan Pricilia\nNovena KS
URL:https://www.santomatheusdepok.org/event/pengenangan-arwah-semua-orang-beriman/
LOCATION:Gereja Santo Matheus Depok\, Jl. Sadewa Raya No.1\, Mekar Jaya\, Kec. Sukmajaya\, Kota Depok\, Jawa Barat\, 16454\, Indonesia
CATEGORIES:Hari Raya
END:VEVENT
BEGIN:VEVENT
DTSTART;TZID=Asia/Krasnoyarsk:20211101T080000
DTEND;TZID=Asia/Krasnoyarsk:20211101T170000
DTSTAMP:20260423T185215
CREATED:20210526T145103Z
LAST-MODIFIED:20210526T145103Z
UID:532-1635753600-1635786000@www.santomatheusdepok.org
SUMMARY:Hari Raya Semua Orang Kudus
DESCRIPTION:Hari\nTgl\nKeterangan\nTL\nKoor\nTata Laksana\nTata Bunga\nKebersihan\nOrganis\nLektor\nMazmur\n\n\nSenin\n1\nHari Raya Semua Orang Kudus\n\nGCC\nIgnatius\nSPM\nYohanes\nJohan Papa\nJeani Lamongi\nPiet Harjono
URL:https://www.santomatheusdepok.org/event/hari-raya-semua-orang-kudus/
LOCATION:Gereja Santo Matheus Depok\, Jl. Sadewa Raya No.1\, Mekar Jaya\, Kec. Sukmajaya\, Kota Depok\, Jawa Barat\, 16454\, Indonesia
CATEGORIES:Hari Raya
END:VEVENT
BEGIN:VEVENT
DTSTART;TZID=Asia/Krasnoyarsk:20211031T080000
DTEND;TZID=Asia/Krasnoyarsk:20211031T170000
DTSTAMP:20260423T185215
CREATED:20211002T050836Z
LAST-MODIFIED:20211002T050836Z
UID:2146-1635667200-1635699600@www.santomatheusdepok.org
SUMMARY:Hari Minggu Biasa XXXI
DESCRIPTION:Ul. 6:2-6; \nMzm. 18:2-3a\, 3bc-4\,47\,51ab; \nIbr. 7:23-28; \nMrk. 12:28b-34 \n2 Raj 24:20b-25;13:18-21 \nWarna Liturgi Hijau
URL:https://www.santomatheusdepok.org/event/hari-minggu-biasa-xxxi/
END:VEVENT
BEGIN:VEVENT
DTSTART;TZID=Asia/Krasnoyarsk:20211030T080000
DTEND;TZID=Asia/Krasnoyarsk:20211031T170000
DTSTAMP:20260423T185215
CREATED:20210526T145015Z
LAST-MODIFIED:20210526T145015Z
UID:530-1635580800-1635699600@www.santomatheusdepok.org
SUMMARY:HM Biasa XXXI
DESCRIPTION:Hari\nTgl\nKeterangan\nTL\nKoor\nTata Laksana\nTata Bunga\nKebersihan\nOrganis\nLektor\nMazmur\n\n\nSabtu\n30\n\nHM Biasa XXXI\n\nB\nYohanes\nSPM\n\nSPM\n\n\nYohanes\n\nHeneng\nAmalia K\nYohana Esperansa\n\n\nMinggu\n31\nB\nFX\nYohanes\nIrene tantri H\nAnna T\nLaurentia Pingkan DK
URL:https://www.santomatheusdepok.org/event/hm-biasa-xxxi/
LOCATION:Gereja Santo Matheus Depok\, Jl. Sadewa Raya No.1\, Mekar Jaya\, Kec. Sukmajaya\, Kota Depok\, Jawa Barat\, 16454\, Indonesia
CATEGORIES:Ibadah Minggu
ATTACH;FMTTYPE=image/jpeg:https://www.santomatheusdepok.org/wp-content/uploads/2021/05/WhatsApp-Image-2021-03-17-at-18.46.23.jpeg
END:VEVENT
BEGIN:VEVENT
DTSTART;TZID=Asia/Krasnoyarsk:20211030T080000
DTEND;TZID=Asia/Krasnoyarsk:20211030T170000
DTSTAMP:20260423T185215
CREATED:20211002T050459Z
LAST-MODIFIED:20211002T050459Z
UID:2143-1635580800-1635613200@www.santomatheusdepok.org
SUMMARY:Hari Biasa
DESCRIPTION:Rm. 11:1-2a\, 11-12\, 25-29; \nMzm. 94:12-13a\,14-15; \nluk. 14:1\,7-11 \nYer. 29:1-14 \nWarna Liturgi Hijau
URL:https://www.santomatheusdepok.org/event/hari-biasa-10/
END:VEVENT
BEGIN:VEVENT
DTSTART;TZID=Asia/Krasnoyarsk:20211029T080000
DTEND;TZID=Asia/Krasnoyarsk:20211029T170000
DTSTAMP:20260423T185215
CREATED:20211002T050335Z
LAST-MODIFIED:20211002T050335Z
UID:2141-1635494400-1635526800@www.santomatheusdepok.org
SUMMARY:Hari biasa
DESCRIPTION:Rm. 9:1-5; \nMzm. 147:12-13\,14-15\,19-20; \nLuk. 14:1-6 \nYer. 28:1-17 \nWarna Liturgi Hijau
URL:https://www.santomatheusdepok.org/event/hari-biasa-9/
END:VEVENT
BEGIN:VEVENT
DTSTART;TZID=Asia/Krasnoyarsk:20211028T080000
DTEND;TZID=Asia/Krasnoyarsk:20211028T170000
DTSTAMP:20260423T185215
CREATED:20211002T050220Z
LAST-MODIFIED:20211002T050220Z
UID:2139-1635408000-1635440400@www.santomatheusdepok.org
SUMMARY:Pesta St. Simon dan Yudas Rasul
DESCRIPTION:Ef. 2:19-22; \nMzm. 19:2-3\,4-5; \nLuk. 6:12-19 \nKis 5:12-32 atau 1Kor. 1:17-2:5 atau 1Kor 4:1-16 \nWarna Liturgi Merah
URL:https://www.santomatheusdepok.org/event/pesta-st-simon-dan-yudas-rasul/
END:VEVENT
BEGIN:VEVENT
DTSTART;TZID=Asia/Krasnoyarsk:20211027T080000
DTEND;TZID=Asia/Krasnoyarsk:20211027T170000
DTSTAMP:20260423T185215
CREATED:20211002T050014Z
LAST-MODIFIED:20211002T050014Z
UID:2137-1635321600-1635354000@www.santomatheusdepok.org
SUMMARY:Hari Biasa
DESCRIPTION:Rm. 8:26-30; \nMzm. 13:4-5\,6; \nLuk. 13:22-30 \nYer. 24:1-10 \nWarna Liturgi Hijau
URL:https://www.santomatheusdepok.org/event/hari-biasa-8/
END:VEVENT
BEGIN:VEVENT
DTSTART;TZID=Asia/Krasnoyarsk:20211026T080000
DTEND;TZID=Asia/Krasnoyarsk:20211026T170000
DTSTAMP:20260423T185215
CREATED:20211002T045042Z
LAST-MODIFIED:20211002T045042Z
UID:2134-1635235200-1635267600@www.santomatheusdepok.org
SUMMARY:Hari Biasa
DESCRIPTION:Rm. 8:18-25 \nMzm. 126:1-2ab\,2cd-3\,4-6 \nLuk. 13:18-21 \nyer. 36:1-10\,21-32 \nWarna Liturgi Hijau
URL:https://www.santomatheusdepok.org/event/hari-biasa-7/
END:VEVENT
BEGIN:VEVENT
DTSTART;TZID=Asia/Krasnoyarsk:20211025T080000
DTEND;TZID=Asia/Krasnoyarsk:20211025T170000
DTSTAMP:20260423T185215
CREATED:20211002T044824Z
LAST-MODIFIED:20211002T044824Z
UID:2132-1635148800-1635181200@www.santomatheusdepok.org
SUMMARY:Hari Biasa
DESCRIPTION:Rm. 8:12-17 \nMzm. 68:2\,4\,6-7ab\,20-21; \nLuk. 13:10-17 \nyer. 25:15-17\,27-38 \nWarna Liturgi Hijau
URL:https://www.santomatheusdepok.org/event/hari-biasa-6/
END:VEVENT
BEGIN:VEVENT
DTSTART;TZID=Asia/Krasnoyarsk:20211024T080000
DTEND;TZID=Asia/Krasnoyarsk:20211024T170000
DTSTAMP:20260423T185215
CREATED:20211002T044621Z
LAST-MODIFIED:20211002T044621Z
UID:2130-1635062400-1635094800@www.santomatheusdepok.org
SUMMARY:Hari Minggu Biasa XXX Hari Minggu Misi
DESCRIPTION:Yer. 31:7-9 \nMzm. 126:1-2ab\,2cd-3-6 \nIbr. 5:1-6 \nMrk. 10:46-52 \nYer. 23:9-17\,21-29 \nWarna Liturgi Hijau
URL:https://www.santomatheusdepok.org/event/hari-minggu-biasa-xxx-hari-minggu-misi/
END:VEVENT
BEGIN:VEVENT
DTSTART;TZID=Asia/Krasnoyarsk:20211023T080000
DTEND;TZID=Asia/Krasnoyarsk:20211024T170000
DTSTAMP:20260423T185215
CREATED:20210526T144823Z
LAST-MODIFIED:20210526T144823Z
UID:528-1634976000-1635094800@www.santomatheusdepok.org
SUMMARY:HM Biasa XXX
DESCRIPTION:Hari\nTgl\nKeterangan\nTL\nKoor\nTata Laksana\nTata Bunga\nKebersihan\nOrganis\nLektor\nMazmur\n\n\nSabtu\n23\n\nHM Biasa XXX\n\nB\nPaulus\nPaulus\n\nPaulus\n\n\nGregorius Agung\n\nYohana Esperansa\nLaurentius baskara\nStefani Ayu Paramita\n\n\nMinggu\n24\nB\nSPM\nGregorius\nHiasinta Galistheda\nAgnes D P\nPaulus Cahyo
URL:https://www.santomatheusdepok.org/event/hm-biasa-xxx/
LOCATION:Gereja Santo Matheus Depok\, Jl. Sadewa Raya No.1\, Mekar Jaya\, Kec. Sukmajaya\, Kota Depok\, Jawa Barat\, 16454\, Indonesia
CATEGORIES:Ibadah Minggu
ATTACH;FMTTYPE=image/jpeg:https://www.santomatheusdepok.org/wp-content/uploads/2021/05/WhatsApp-Image-2021-03-17-at-18.46.23.jpeg
END:VEVENT
BEGIN:VEVENT
DTSTART;TZID=Asia/Krasnoyarsk:20211023T080000
DTEND;TZID=Asia/Krasnoyarsk:20211023T170000
DTSTAMP:20260423T185215
CREATED:20211002T044323Z
LAST-MODIFIED:20211002T044323Z
UID:2128-1634976000-1635008400@www.santomatheusdepok.org
SUMMARY:St. Yohanes dari Kapestrano\, Pelindung Para Pastor Tentara
DESCRIPTION:Rm. 8:1-11; \nMzm. 24:1-2\,3\,4ab\,5-6; \nLuk. 13:1-9 \nYer. 19:1-5\,10-20:6 \nWarna Liturgi Hijau
URL:https://www.santomatheusdepok.org/event/st-yohanes-dari-kapestrano-pelindung-para-pastor-tentara/
END:VEVENT
BEGIN:VEVENT
DTSTART;TZID=Asia/Krasnoyarsk:20211022T080000
DTEND;TZID=Asia/Krasnoyarsk:20211022T170000
DTSTAMP:20260423T185215
CREATED:20211002T044101Z
LAST-MODIFIED:20211002T044101Z
UID:2126-1634889600-1634922000@www.santomatheusdepok.org
SUMMARY:Yohanes Paulus II
DESCRIPTION:Rm. 7:18-25a; \nMzm. 119:66\,68\,76\,77\,93\,94; \nLuk. 12:54-59 \nYer. 22:10-30 \nWarna Liturgi Hijau
URL:https://www.santomatheusdepok.org/event/yohanes-paulus-ii/
END:VEVENT
BEGIN:VEVENT
DTSTART;TZID=Asia/Krasnoyarsk:20211021T080000
DTEND;TZID=Asia/Krasnoyarsk:20211021T170000
DTSTAMP:20260423T185215
CREATED:20211002T043907Z
LAST-MODIFIED:20211002T043907Z
UID:2124-1634803200-1634835600@www.santomatheusdepok.org
SUMMARY:Hari Biasa
DESCRIPTION:Rm. 6:19-23 \nMzm. 1:1-2\,3\,4-6; \nLuk. 12:49-53 \nHab.2:5-20 \nWarna Liturgi Hijau
URL:https://www.santomatheusdepok.org/event/hari-biasa-5/
END:VEVENT
BEGIN:VEVENT
DTSTART;TZID=Asia/Krasnoyarsk:20211020T080000
DTEND;TZID=Asia/Krasnoyarsk:20211020T170000
DTSTAMP:20260423T185215
CREATED:20211002T043657Z
LAST-MODIFIED:20211002T043657Z
UID:2122-1634716800-1634749200@www.santomatheusdepok.org
SUMMARY:Hari Biasa
DESCRIPTION:Rm. 6:12-18 \nMzm. 124:1-3\,4-6\,7-8 \nLuk. 12:39-48 \nHab.1:1-2:4 \nWarna Liturgi Hijau
URL:https://www.santomatheusdepok.org/event/hari-biasa-4/
END:VEVENT
BEGIN:VEVENT
DTSTART;TZID=Asia/Krasnoyarsk:20211019T080000
DTEND;TZID=Asia/Krasnoyarsk:20211019T170000
DTSTAMP:20260423T185215
CREATED:20211002T043202Z
LAST-MODIFIED:20211002T043202Z
UID:2120-1634630400-1634662800@www.santomatheusdepok.org
SUMMARY:Yohanes de Brebuf dan Isaac Jogues\, Paulus dari Salib
DESCRIPTION:Rm. 5:12\,15b\,17-19\,20b-21; \nMzm. 40:7-8a\,8b-9\,10\,17; \nLuk. 12:35-38 \n2Taw. 35:20-36:12 \nWarna Liturgi Hijau
URL:https://www.santomatheusdepok.org/event/yohanes-de-brebuf-dan-isaac-jogues-paulus-dari-salib/
END:VEVENT
BEGIN:VEVENT
DTSTART;TZID=Asia/Krasnoyarsk:20211018T080000
DTEND;TZID=Asia/Krasnoyarsk:20211018T170000
DTSTAMP:20260423T185215
CREATED:20211002T042939Z
LAST-MODIFIED:20211002T042939Z
UID:2117-1634544000-1634576400@www.santomatheusdepok.org
SUMMARY:Pesta St. Lukas
DESCRIPTION:2Tim. 4:10-17b; \nMzm. 145:10-11\,12-13ab\,17-18 \nLuk. 10:1-9 \nKis. 9:27-31:11:19-26 \nWarna Liturgi Hijau
URL:https://www.santomatheusdepok.org/event/pesta-st-lukas/
END:VEVENT
BEGIN:VEVENT
DTSTART;TZID=Asia/Krasnoyarsk:20211017T080000
DTEND;TZID=Asia/Krasnoyarsk:20211017T170000
DTSTAMP:20260423T185215
CREATED:20211002T042722Z
LAST-MODIFIED:20211002T042722Z
UID:2115-1634457600-1634490000@www.santomatheusdepok.org
SUMMARY:Hari Minggu Biasa XXIX
DESCRIPTION:Yes. 53:10-11; \nMzm. 33:4-5\,18-19\,20\,22 \nIbr. 4:14-16 \nMrk. 10:35-45 \n2Raj. 22:8\,10-23:4\,21-23 \nWarna Liturgi Merah
URL:https://www.santomatheusdepok.org/event/hari-minggu-biasa-xxix/
END:VEVENT
BEGIN:VEVENT
DTSTART;TZID=Asia/Krasnoyarsk:20211016T080000
DTEND;TZID=Asia/Krasnoyarsk:20211017T170000
DTSTAMP:20260423T185215
CREATED:20210526T144733Z
LAST-MODIFIED:20210526T144733Z
UID:526-1634371200-1634490000@www.santomatheusdepok.org
SUMMARY:HM Biasa XXIX
DESCRIPTION:Hari\nTgl\nKeterangan\nTL\nKoor\nTata Laksana\nTata Bunga\nKebersihan\nOrganis\nLektor\nMazmur\n\n\nSabtu\n16\n\nHM Biasa XXIX\n\nB\nGregorius\nFX\n\nFX\n\n\nYakobus\n\nAnastasia K Niken\nNatasya E\nYovita Efferida Sinaga\n\n\nMinggu\n17\nB\nFIDE\nYakobus\nMaria Michela Rosaria\nAnne R\nIne Maria
URL:https://www.santomatheusdepok.org/event/hm-biasa-xxix/
LOCATION:Gereja Santo Matheus Depok\, Jl. Sadewa Raya No.1\, Mekar Jaya\, Kec. Sukmajaya\, Kota Depok\, Jawa Barat\, 16454\, Indonesia
CATEGORIES:Ibadah Minggu
ATTACH;FMTTYPE=image/jpeg:https://www.santomatheusdepok.org/wp-content/uploads/2021/05/WhatsApp-Image-2021-03-17-at-18.46.23.jpeg
END:VEVENT
BEGIN:VEVENT
DTSTART;TZID=Asia/Krasnoyarsk:20211016T080000
DTEND;TZID=Asia/Krasnoyarsk:20211016T170000
DTSTAMP:20260423T185215
CREATED:20211002T042441Z
LAST-MODIFIED:20211002T042441Z
UID:2113-1634371200-1634403600@www.santomatheusdepok.org
SUMMARY:Hedwig\, Margarita Maria Alcoque
DESCRIPTION:Rm. 4:13\,16-18 \nMzm. 105:6-9\,42-43; \nLuk. 12:8-12 \nYer. 9:2-12\, 17-22 \nWarna Liturgi Hijau
URL:https://www.santomatheusdepok.org/event/hedwig-margarita-maria-alcoque/
END:VEVENT
BEGIN:VEVENT
DTSTART;TZID=Asia/Krasnoyarsk:20211015T080000
DTEND;TZID=Asia/Krasnoyarsk:20211015T170000
DTSTAMP:20260423T185215
CREATED:20211002T042212Z
LAST-MODIFIED:20211002T042212Z
UID:2111-1634284800-1634317200@www.santomatheusdepok.org
SUMMARY:Peringatan Wajib Teresia dari Yesus
DESCRIPTION:Rm. 4:1-8; \nMzm. 32:1-2\,5\,11 \nLuk 12:1-7; \nYer. 7:1-20 \nWarna Liturgi Putih
URL:https://www.santomatheusdepok.org/event/peringatan-wajib-teresia-dari-yesus/
END:VEVENT
BEGIN:VEVENT
DTSTART;TZID=Asia/Krasnoyarsk:20211014T080000
DTEND;TZID=Asia/Krasnoyarsk:20211014T170000
DTSTAMP:20260423T185215
CREATED:20211002T042021Z
LAST-MODIFIED:20211002T042021Z
UID:2109-1634198400-1634230800@www.santomatheusdepok.org
SUMMARY:Kalistus I
DESCRIPTION:Rm. 3:21-30 \nMzm. 130:1-2\,3-4b\,4c-6 \nLuk. 11:47-54 \nYer. 4:5-8\,13-28 \nWarna Liturgi Hijau
URL:https://www.santomatheusdepok.org/event/kalistus-i/
END:VEVENT
BEGIN:VEVENT
DTSTART;TZID=Asia/Krasnoyarsk:20211013T080000
DTEND;TZID=Asia/Krasnoyarsk:20211013T170000
DTSTAMP:20260423T185215
CREATED:20211002T041825Z
LAST-MODIFIED:20211002T041825Z
UID:2107-1634112000-1634144400@www.santomatheusdepok.org
SUMMARY:Hari Biasa
DESCRIPTION:Rm. 2:1-11 \nMzm 62:2-3\,6-7\,9 \nLuk. 11:42-46 \nYer. 3:1-5\,19-4:4 \nWarna Liturgi Hijau
URL:https://www.santomatheusdepok.org/event/hari-biasa-3/
END:VEVENT
END:VCALENDAR