BEGIN:VCALENDAR
VERSION:2.0
PRODID:-//Santo Matheus Depok - ECPv6.15.20//NONSGML v1.0//EN
CALSCALE:GREGORIAN
METHOD:PUBLISH
X-ORIGINAL-URL:https://www.santomatheusdepok.org
X-WR-CALDESC:Events for Santo Matheus Depok
REFRESH-INTERVAL;VALUE=DURATION:PT1H
X-Robots-Tag:noindex
X-PUBLISHED-TTL:PT1H
BEGIN:VTIMEZONE
TZID:Asia/Krasnoyarsk
BEGIN:STANDARD
TZOFFSETFROM:+0700
TZOFFSETTO:+0700
TZNAME:+07
DTSTART:20200101T000000
END:STANDARD
END:VTIMEZONE
BEGIN:VEVENT
DTSTART;TZID=Asia/Krasnoyarsk:20210517T080000
DTEND;TZID=Asia/Krasnoyarsk:20210521T170000
DTSTAMP:20260425T033106
CREATED:20210526T135115Z
LAST-MODIFIED:20210526T135604Z
UID:442-1621238400-1621616400@www.santomatheusdepok.org
SUMMARY:Novena Roh Kudus
DESCRIPTION:Hari\nTgl\nKeterangan\nTL\nKoor\nTata Laksana\nTata Bunga\nKebersihan\nOrganis\nLektor\nMazmur\n\n\nSenin\n17\nNovena Roh Kudus\nB\nWKRI\nKTM\n\nDPP\n\n\nDPP\n\nYoan Pricilia\nBernadete Inge Ambar\n\n\n\nSelasa\n18\nNovena Roh Kudus\nB\nFIDE\nKTM\nMaria Michela Rosaria\nAviarini\n\n\n\nRabu\n19\nNovena Roh Kudus\nB\nIgnatius\nKTM\nYohana Esperansa\nEllena Valencia\n\n\n\nKamis\n20\nNovena Roh Kudus\nB\nElizabeth\nKTM\nHiasinta Galistheda\nReny\n\n\n\nJumat\n21\nNovena Roh Kudus\nB\nYakobus\nKTM\nFX\nYakobus\nAnastasia K Niken\nB Wikasari
URL:https://www.santomatheusdepok.org/event/novena-roh-kudus-2/
LOCATION:Gereja Santo Matheus Depok\, Jl. Sadewa Raya No.1\, Mekar Jaya\, Kec. Sukmajaya\, Kota Depok\, Jawa Barat\, 16454\, Indonesia
CATEGORIES:Novena
END:VEVENT
BEGIN:VEVENT
DTSTART;TZID=Asia/Krasnoyarsk:20210516T080000
DTEND;TZID=Asia/Krasnoyarsk:20210516T170000
DTSTAMP:20260425T033106
CREATED:20210515T205231Z
LAST-MODIFIED:20210515T205231Z
UID:231-1621152000-1621184400@www.santomatheusdepok.org
SUMMARY:INTIMITA 24 Januari 2021
DESCRIPTION:[embeddoc url=”http://www.santomatheusdepok.org/wp-content/uploads/2021/05/eINTIMITA-24Jan2021.pdf” download=”all” viewer=”google”]
URL:https://www.santomatheusdepok.org/event/intimita-24-januari-2021/
LOCATION:Gereja Santo Matheus Depok\, Jl. Sadewa Raya No.1\, Mekar Jaya\, Kec. Sukmajaya\, Kota Depok\, Jawa Barat\, 16454\, Indonesia
CATEGORIES:INTIMITA
ATTACH;FMTTYPE=image/png:https://www.santomatheusdepok.org/wp-content/uploads/2021/05/Screen-Shot-2021-05-16-at-03.46.03.png
END:VEVENT
BEGIN:VEVENT
DTSTART;TZID=Asia/Krasnoyarsk:20210515T080000
DTEND;TZID=Asia/Krasnoyarsk:20210516T170000
DTSTAMP:20260425T033106
CREATED:20210526T134653Z
LAST-MODIFIED:20210526T134653Z
UID:435-1621065600-1621184400@www.santomatheusdepok.org
SUMMARY:HM Paskah VII
DESCRIPTION:Hari\nTgl\nKeterangan\nTL\nKoor\nTata Laksana\nTata Bunga\nKebersihan\nOrganis\nLektor\nMazmur\n\n\nSabtu\n15\n\nHM Paskah VII\n\nB\nGCC\nOMK\n\nYoseph\n\n\nOMK\n\nJohan Papa\nGregorius Angga\nLaurentia Pingkan DK\n\n\nMinggu\n16\nB\nFX\nWKRI\nIrene tantri H\nEmilia\nPaulus Cahyo
URL:https://www.santomatheusdepok.org/event/hm-paskah-vii/
LOCATION:Gereja Santo Matheus Depok\, Jl. Sadewa Raya No.1\, Mekar Jaya\, Kec. Sukmajaya\, Kota Depok\, Jawa Barat\, 16454\, Indonesia
CATEGORIES:Ibadah Minggu,Paskah
ATTACH;FMTTYPE=image/jpeg:https://www.santomatheusdepok.org/wp-content/uploads/2021/05/WhatsApp-Image-2021-03-17-at-18.46.23.jpeg
END:VEVENT
BEGIN:VEVENT
DTSTART;TZID=Asia/Krasnoyarsk:20210514T080000
DTEND;TZID=Asia/Krasnoyarsk:20210514T170000
DTSTAMP:20260425T033106
CREATED:20210526T134602Z
LAST-MODIFIED:20210526T134724Z
UID:433-1620979200-1621011600@www.santomatheusdepok.org
SUMMARY:Novena Roh Kudus
DESCRIPTION:Hari\nTgl\nKeterangan\nTL\nKoor\nTata Laksana\nTata Bunga\nKebersihan\nOrganis\nLektor\nMazmur\n\n\nJumat\n14\nNovena Roh Kudus\nB\nYohanes\nElizabeth\nYoseph\nOMK\nHeneng\nNovena KS
URL:https://www.santomatheusdepok.org/event/novena-roh-kudus/
LOCATION:Gereja Santo Matheus Depok\, Jl. Sadewa Raya No.1\, Mekar Jaya\, Kec. Sukmajaya\, Kota Depok\, Jawa Barat\, 16454\, Indonesia
CATEGORIES:Novena
END:VEVENT
BEGIN:VEVENT
DTSTART;TZID=Asia/Krasnoyarsk:20210513T080000
DTEND;TZID=Asia/Krasnoyarsk:20210513T170000
DTSTAMP:20260425T033106
CREATED:20210526T134320Z
LAST-MODIFIED:20210526T134732Z
UID:429-1620892800-1620925200@www.santomatheusdepok.org
SUMMARY:Hari Raya Kenaikan Tuhan
DESCRIPTION:Hari\nTgl\nKeterangan\nTL\nKoor\nTata Laksana\nTata Bunga\nKebersihan\nOrganis\nLektor\nMazmur\n\n\nKamis\n13\nHari Raya Kenaikan Tuhan\nB\nSPM\nPetrus\nDPP\nDPP\nYohana Esperansa\nJeani Lamongi\nFernandus Antonius Sinaga
URL:https://www.santomatheusdepok.org/event/hari-raya-kenaikan-tuhan/
LOCATION:Gereja Santo Matheus Depok\, Jl. Sadewa Raya No.1\, Mekar Jaya\, Kec. Sukmajaya\, Kota Depok\, Jawa Barat\, 16454\, Indonesia
CATEGORIES:Hari Raya
END:VEVENT
BEGIN:VEVENT
DTSTART;TZID=Asia/Krasnoyarsk:20210508T080000
DTEND;TZID=Asia/Krasnoyarsk:20210509T170000
DTSTAMP:20260425T033106
CREATED:20210526T133600Z
LAST-MODIFIED:20210526T134401Z
UID:427-1620460800-1620579600@www.santomatheusdepok.org
SUMMARY:HM Paskah VI
DESCRIPTION:Hari\nTgl\nKeterangan\nTL\nKoor\nTata Laksana\nTata Bunga\nKebersihan\nOrganis\nLektor\nMazmur\n\n\nSabtu\n8\n\nHM Paskah VI\n\nB\nKoor Cowok\nIgnatius\n\nIgnatius\n\n\nYoseph\n\nF Sulis Wicahyadi\nAgnes D P\nPiet Harjono\n\n\nMinggu\n9\nB\nPaulus\nYoseph\nMaria Michela Rosaria\nAnna T\nYovita Efferida Sinaga
URL:https://www.santomatheusdepok.org/event/hm-paskah-vi/
LOCATION:Gereja Santo Matheus Depok\, Jl. Sadewa Raya No.1\, Mekar Jaya\, Kec. Sukmajaya\, Kota Depok\, Jawa Barat\, 16454\, Indonesia
CATEGORIES:Ibadah Minggu,Paskah
ATTACH;FMTTYPE=image/jpeg:https://www.santomatheusdepok.org/wp-content/uploads/2021/05/WhatsApp-Image-2021-03-17-at-18.46.23.jpeg
END:VEVENT
BEGIN:VEVENT
DTSTART;TZID=Asia/Krasnoyarsk:20210507T080000
DTEND;TZID=Asia/Krasnoyarsk:20210507T170000
DTSTAMP:20260425T033106
CREATED:20210526T133425Z
LAST-MODIFIED:20210526T133447Z
UID:424-1620374400-1620406800@www.santomatheusdepok.org
SUMMARY:Jumat Pertama
DESCRIPTION:Hari\nTgl\nKeterangan\nTL\nKoor\nTata Laksana\nTata Bunga\nKebersihan\nOrganis\nLektor\n\n\nJumat\n7\nJumat Pertama\n\nGregorius\nYohanes\nIgnatius\nYoseph\nPatricia Miranda\nAmalia K
URL:https://www.santomatheusdepok.org/event/jumat-pertama/
LOCATION:Gereja Santo Matheus Depok\, Jl. Sadewa Raya No.1\, Mekar Jaya\, Kec. Sukmajaya\, Kota Depok\, Jawa Barat\, 16454\, Indonesia
CATEGORIES:Ibadah Jumat
ATTACH;FMTTYPE=image/jpeg:https://www.santomatheusdepok.org/wp-content/uploads/2021/05/WhatsApp-Image-2021-03-17-at-18.46.23.jpeg
END:VEVENT
BEGIN:VEVENT
DTSTART;TZID=Asia/Krasnoyarsk:20210501T080000
DTEND;TZID=Asia/Krasnoyarsk:20210502T170000
DTSTAMP:20260425T033106
CREATED:20210526T130156Z
LAST-MODIFIED:20210526T134740Z
UID:415-1619856000-1619974800@www.santomatheusdepok.org
SUMMARY:HM Paskah V
DESCRIPTION:Hari\nTgl\nKeterangan\nTL\nKoor\nTata Laksana\nTata Bunga\nKebersihan\nOrganis\nLektor\nMazmur\n\n\nSabtu\n1\n\nHM Paskah V\n\nB\nOMK\nGregorius\n\nGregorius\n\n\nSPM\n\nCatherine\nAnne R\nIne Maria\n\n\nMinggu\n2\nB\nPetrus\nSPM\nAnastasia K Niken\nLaurentius baskara\nAgnes Diah Paramita
URL:https://www.santomatheusdepok.org/event/hm-paskah-v/
LOCATION:Gereja Santo Matheus Depok\, Jl. Sadewa Raya No.1\, Mekar Jaya\, Kec. Sukmajaya\, Kota Depok\, Jawa Barat\, 16454\, Indonesia
CATEGORIES:Ibadah Minggu,Paskah
ATTACH;FMTTYPE=image/jpeg:https://www.santomatheusdepok.org/wp-content/uploads/2021/05/WhatsApp-Image-2021-03-17-at-18.46.23.jpeg
END:VEVENT
END:VCALENDAR