BEGIN:VCALENDAR
VERSION:2.0
PRODID:-//Santo Matheus Depok - ECPv6.15.20//NONSGML v1.0//EN
CALSCALE:GREGORIAN
METHOD:PUBLISH
X-WR-CALNAME:Santo Matheus Depok
X-ORIGINAL-URL:https://www.santomatheusdepok.org
X-WR-CALDESC:Events for Santo Matheus Depok
REFRESH-INTERVAL;VALUE=DURATION:PT1H
X-Robots-Tag:noindex
X-PUBLISHED-TTL:PT1H
BEGIN:VTIMEZONE
TZID:Asia/Krasnoyarsk
BEGIN:STANDARD
TZOFFSETFROM:+0700
TZOFFSETTO:+0700
TZNAME:+07
DTSTART:20200101T000000
END:STANDARD
END:VTIMEZONE
BEGIN:VEVENT
DTSTART;TZID=Asia/Krasnoyarsk:20211014T080000
DTEND;TZID=Asia/Krasnoyarsk:20211014T170000
DTSTAMP:20260424T060819
CREATED:20211002T042021Z
LAST-MODIFIED:20211002T042021Z
UID:2109-1634198400-1634230800@www.santomatheusdepok.org
SUMMARY:Kalistus I
DESCRIPTION:Rm. 3:21-30 \nMzm. 130:1-2\,3-4b\,4c-6 \nLuk. 11:47-54 \nYer. 4:5-8\,13-28 \nWarna Liturgi Hijau
URL:https://www.santomatheusdepok.org/event/kalistus-i/
END:VEVENT
BEGIN:VEVENT
DTSTART;TZID=Asia/Krasnoyarsk:20211013T080000
DTEND;TZID=Asia/Krasnoyarsk:20211013T170000
DTSTAMP:20260424T060819
CREATED:20211002T041825Z
LAST-MODIFIED:20211002T041825Z
UID:2107-1634112000-1634144400@www.santomatheusdepok.org
SUMMARY:Hari Biasa
DESCRIPTION:Rm. 2:1-11 \nMzm 62:2-3\,6-7\,9 \nLuk. 11:42-46 \nYer. 3:1-5\,19-4:4 \nWarna Liturgi Hijau
URL:https://www.santomatheusdepok.org/event/hari-biasa-3/
END:VEVENT
BEGIN:VEVENT
DTSTART;TZID=Asia/Krasnoyarsk:20211012T080000
DTEND;TZID=Asia/Krasnoyarsk:20211012T170000
DTSTAMP:20260424T060819
CREATED:20211002T041525Z
LAST-MODIFIED:20211002T041525Z
UID:2103-1634025600-1634058000@www.santomatheusdepok.org
SUMMARY:Hari Biasa
DESCRIPTION:Rm. 1:16-25; \nMzm. 19:2-3\,4-5; \nLuk. 11:37-41 \nYer. 2:1-13\,20-25 \nWarna Liturgi Hijau
URL:https://www.santomatheusdepok.org/event/hari-biasa-2/
END:VEVENT
BEGIN:VEVENT
DTSTART;TZID=Asia/Krasnoyarsk:20211011T080000
DTEND;TZID=Asia/Krasnoyarsk:20211011T170000
DTSTAMP:20260424T060819
CREATED:20211002T041357Z
LAST-MODIFIED:20211002T041357Z
UID:2101-1633939200-1633971600@www.santomatheusdepok.org
SUMMARY:Yohanes XXIII
DESCRIPTION:Rm. 1:1-7; \nMzm. 98:1\,2-3ab\,3cd-4; \nLuk. 11:29-32 \nYer. 1:1-19 \nWarna Liturgi Hijau
URL:https://www.santomatheusdepok.org/event/yohanes-xxiii/
END:VEVENT
BEGIN:VEVENT
DTSTART;TZID=Asia/Krasnoyarsk:20211009T080000
DTEND;TZID=Asia/Krasnoyarsk:20211010T170000
DTSTAMP:20260424T060819
CREATED:20210526T144007Z
LAST-MODIFIED:20210526T144007Z
UID:524-1633766400-1633885200@www.santomatheusdepok.org
SUMMARY:HM Biasa XXVIII
DESCRIPTION:Hari\nTgl\nKeterangan\nTL\nKoor\nTata Laksana\nTata Bunga\nKebersihan\nOrganis\nLektor\nMazmur\n\n\nSabtu\n9\n\nHM Biasa XXVIII\n\nB\nOMK\nOMK\n\nYoseph\n\n\nWKRI\n\nCatherine\nGrace M R\nFernandus Antonius Sinaga\n\n\nMinggu\n10\nB\nPetrus\nWKRI\nJohan Papa\nKristiyanti P\nAnne Riyanti
URL:https://www.santomatheusdepok.org/event/hm-biasa-xxviii/
LOCATION:Gereja Santo Matheus Depok\, Jl. Sadewa Raya No.1\, Mekar Jaya\, Kec. Sukmajaya\, Kota Depok\, Jawa Barat\, 16454\, Indonesia
CATEGORIES:Ibadah Minggu
ATTACH;FMTTYPE=image/jpeg:https://www.santomatheusdepok.org/wp-content/uploads/2021/05/WhatsApp-Image-2021-03-17-at-18.46.23.jpeg
END:VEVENT
BEGIN:VEVENT
DTSTART;TZID=Asia/Krasnoyarsk:20211009T080000
DTEND;TZID=Asia/Krasnoyarsk:20211009T170000
DTSTAMP:20260424T060819
CREATED:20211002T041032Z
LAST-MODIFIED:20211002T041032Z
UID:2099-1633766400-1633798800@www.santomatheusdepok.org
SUMMARY:Dionisius\, Yohanes Leonardus
DESCRIPTION:Warna  Liturgi Hijau
URL:https://www.santomatheusdepok.org/event/dionisius-yohanes-leonardus/
END:VEVENT
BEGIN:VEVENT
DTSTART;TZID=Asia/Krasnoyarsk:20211008T080000
DTEND;TZID=Asia/Krasnoyarsk:20211008T170000
DTSTAMP:20260424T060819
CREATED:20211002T040914Z
LAST-MODIFIED:20211002T040914Z
UID:2097-1633680000-1633712400@www.santomatheusdepok.org
SUMMARY:Hari Biasa
DESCRIPTION:Warna Liturgi Hijau
URL:https://www.santomatheusdepok.org/event/hari-biasa/
END:VEVENT
BEGIN:VEVENT
DTSTART;TZID=Asia/Krasnoyarsk:20211007T080000
DTEND;TZID=Asia/Krasnoyarsk:20211007T170000
DTSTAMP:20260424T060819
CREATED:20211002T040628Z
LAST-MODIFIED:20211002T040628Z
UID:2095-1633593600-1633626000@www.santomatheusdepok.org
SUMMARY:Peringatan Wajib Santa Perawan Maria\, Ratu Rosario
DESCRIPTION:Mal. 3:13-4:2a; \nMzm. 1:1-2\,3\,4\,6; \nLuk. 11:5-13 \nYes. 37:21-35 \nWarna Liturgi Putih
URL:https://www.santomatheusdepok.org/event/peringatan-wajib-santa-perawan-maria-ratu-rosario/
END:VEVENT
BEGIN:VEVENT
DTSTART;TZID=Asia/Krasnoyarsk:20211006T080000
DTEND;TZID=Asia/Krasnoyarsk:20211006T170000
DTSTAMP:20260424T060819
CREATED:20211002T040251Z
LAST-MODIFIED:20211002T040251Z
UID:2093-1633507200-1633539600@www.santomatheusdepok.org
SUMMARY:Bruno
DESCRIPTION:Yun. 4:1-11; \nMzm. 86:3-4\,5-6\,9-10; \nLuk. 11:1-4 \nWarna Liturgi Hijau
URL:https://www.santomatheusdepok.org/event/bruno/
END:VEVENT
BEGIN:VEVENT
DTSTART;TZID=Asia/Krasnoyarsk:20211005T080000
DTEND;TZID=Asia/Krasnoyarsk:20211005T170000
DTSTAMP:20260424T060819
CREATED:20211002T040104Z
LAST-MODIFIED:20211002T040104Z
UID:2091-1633420800-1633453200@www.santomatheusdepok.org
SUMMARY:Faustina Kowalska
DESCRIPTION:Yun. 3:1-10; \nMzm. 130:1-2\,3-4ab\,7-8 \nLuk 10.!0:38-42 \n2Raj. 18:17-36 \nWarna Liturgi Hijau
URL:https://www.santomatheusdepok.org/event/faustina-kowalska/
END:VEVENT
BEGIN:VEVENT
DTSTART;TZID=Asia/Krasnoyarsk:20211004T080000
DTEND;TZID=Asia/Krasnoyarsk:20211004T170000
DTSTAMP:20260424T060819
CREATED:20211002T035908Z
LAST-MODIFIED:20211002T035908Z
UID:2089-1633334400-1633366800@www.santomatheusdepok.org
SUMMARY:Peringatan Wajib Fransiskus dari Assisi
DESCRIPTION:
URL:https://www.santomatheusdepok.org/event/peringatan-wajib-fransiskus-dari-assisi/
END:VEVENT
BEGIN:VEVENT
DTSTART;TZID=Asia/Krasnoyarsk:20211002T080000
DTEND;TZID=Asia/Krasnoyarsk:20211003T170000
DTSTAMP:20260424T060819
CREATED:20210526T143310Z
LAST-MODIFIED:20210526T143328Z
UID:521-1633161600-1633280400@www.santomatheusdepok.org
SUMMARY:HM Biasa XXVII
DESCRIPTION:Hari\nTgl\nKeterangan\nTL\nKoor\nTata Laksana\nTata Bunga\nKebersihan\nOrganis\nLektor\nMazmur\n\n\nSabtu\n2\n\nHM Biasa XXVII\n\nB\nYakobus\nPetrus\n\nPetrus\n\n\nElizabeth\n\nPatricia Miranda\nUrsula Ekanurani\nGrace Marcella\n\n\nMinggu\n3\nB\nYoseph\nElizabeth\nIrene tantri H\nC Endah\nAgnes Diah Paramita
URL:https://www.santomatheusdepok.org/event/hm-biasa-xxvii/
LOCATION:Gereja Santo Matheus Depok\, Jl. Sadewa Raya No.1\, Mekar Jaya\, Kec. Sukmajaya\, Kota Depok\, Jawa Barat\, 16454\, Indonesia
CATEGORIES:Ibadah Minggu
ATTACH;FMTTYPE=image/jpeg:https://www.santomatheusdepok.org/wp-content/uploads/2021/05/WhatsApp-Image-2021-03-17-at-18.46.23.jpeg
END:VEVENT
BEGIN:VEVENT
DTSTART;TZID=Asia/Krasnoyarsk:20211002T080000
DTEND;TZID=Asia/Krasnoyarsk:20211002T170000
DTSTAMP:20260424T060819
CREATED:20211002T035735Z
LAST-MODIFIED:20211002T035735Z
UID:2087-1633161600-1633194000@www.santomatheusdepok.org
SUMMARY:Peringatan Wajib Para Malaikat Pelindung
DESCRIPTION:Bar. 4:5-12\, 27-29; \nMzm. 69:33-35\, 36-37 \nLuk. 10:17-24 \n2Raj 20:1-19 \nWarna Liturgi Putih
URL:https://www.santomatheusdepok.org/event/peringatan-wajib-para-malaikat-pelindung/
END:VEVENT
BEGIN:VEVENT
DTSTART;TZID=Asia/Krasnoyarsk:20211001T080000
DTEND;TZID=Asia/Krasnoyarsk:20211001T170000
DTSTAMP:20260424T060819
CREATED:20210526T142626Z
LAST-MODIFIED:20210526T142626Z
UID:510-1633075200-1633107600@www.santomatheusdepok.org
SUMMARY:Jumat Pertama/ Pembukaan Bulan Maria
DESCRIPTION:Hari\nTgl\nKeterangan\nTL\nKoor\nTata Laksana\nTata Bunga\nKebersihan\nOrganis\nLektor\nMazmur\n\n\nJumat\n1\nJumat Pertama/ Pembukaan Bulan Maria\nB\nElizabeth\nYoseph\nPetrus\nElizabeth\nHiasinta Galistheda\nWelmina J Umbas
URL:https://www.santomatheusdepok.org/event/jumat-pertama-pembukaan-bulan-maria/
LOCATION:Gereja Santo Matheus Depok\, Jl. Sadewa Raya No.1\, Mekar Jaya\, Kec. Sukmajaya\, Kota Depok\, Jawa Barat\, 16454\, Indonesia
CATEGORIES:Ibadah Jumat
END:VEVENT
BEGIN:VEVENT
DTSTART;TZID=Asia/Krasnoyarsk:20210925T080000
DTEND;TZID=Asia/Krasnoyarsk:20210926T170000
DTSTAMP:20260424T060819
CREATED:20210526T141917Z
LAST-MODIFIED:20210526T141928Z
UID:503-1632556800-1632675600@www.santomatheusdepok.org
SUMMARY:HM Biasa XXVI
DESCRIPTION:Hari\nTgl\nKeterangan\nTL\nKoor\nTata Laksana\nTata Bunga\nKebersihan\nOrganis\nLektor\nMazmur\n\n\nSabtu\n25\n\nHM Biasa XXVI\n\nB\nKoor Cowok\nYohanes\n\nYohanes\n\n\nIgnatius\n\nF Sulis Wicahyadi\nB Wikasari\nAnastasia E Primasanti\n\n\nMinggu\n26\nB\nIgnatius\nIgnatius\nYohana Esperansa\nFlorentina Ari Kartika\nBernadete Inge Ambar
URL:https://www.santomatheusdepok.org/event/hm-biasa-xxvi/
LOCATION:Gereja Santo Matheus Depok\, Jl. Sadewa Raya No.1\, Mekar Jaya\, Kec. Sukmajaya\, Kota Depok\, Jawa Barat\, 16454\, Indonesia
CATEGORIES:Ibadah Minggu
END:VEVENT
BEGIN:VEVENT
DTSTART;TZID=Asia/Krasnoyarsk:20210918T080000
DTEND;TZID=Asia/Krasnoyarsk:20210919T170000
DTSTAMP:20260424T060819
CREATED:20210526T141820Z
LAST-MODIFIED:20210526T143218Z
UID:501-1631952000-1632070800@www.santomatheusdepok.org
SUMMARY:HM Biasa XXV
DESCRIPTION:Hari\nTgl\nKeterangan\nTL\nKoor\nTata Laksana\nTata Bunga\nKebersihan\nOrganis\nLektor\nMazmur\n\n\nSabtu\n18\n\nHM Biasa XXV\n\nB\nGCC\nGregorius\n\nGregorius\n\n\nSPM\n\nJohan Papa\nEllena Valencia\nJulinta Paulina Ginting\n\n\nMinggu\n19\nB\nWKRI\nSPM\nYoan Pricilia\nReny\nAnna Triprasidhani
URL:https://www.santomatheusdepok.org/event/hm-biasa-xxv/
LOCATION:Gereja Santo Matheus Depok\, Jl. Sadewa Raya No.1\, Mekar Jaya\, Kec. Sukmajaya\, Kota Depok\, Jawa Barat\, 16454\, Indonesia
CATEGORIES:Ibadah Minggu
ATTACH;FMTTYPE=image/jpeg:https://www.santomatheusdepok.org/wp-content/uploads/2021/05/WhatsApp-Image-2021-03-17-at-18.46.23.jpeg
END:VEVENT
BEGIN:VEVENT
DTSTART;TZID=Asia/Krasnoyarsk:20210911T080000
DTEND;TZID=Asia/Krasnoyarsk:20210912T170000
DTSTAMP:20260424T060819
CREATED:20210526T141747Z
LAST-MODIFIED:20210526T143210Z
UID:499-1631347200-1631466000@www.santomatheusdepok.org
SUMMARY:HM Biasa XXIV
DESCRIPTION:Hari\nTgl\nKeterangan\nTL\nKoor\nTata Laksana\nTata Bunga\nKebersihan\nOrganis\nLektor\nMazmur\n\n\nSabtu\n11\n\nHM Biasa XXIV\n\nB\nYohanes\nYakobus\n\nYakobus\n\n\nPaulus\n\nHeneng\nBernadete Inge Ambar\nYohana Esperansa\n\n\nMinggu\n12\nB\nFX\nPaulus\nIrene tantri H\nAviarini\nTeofilus I Damanik
URL:https://www.santomatheusdepok.org/event/hm-biasa-xxiv/
LOCATION:Gereja Santo Matheus Depok\, Jl. Sadewa Raya No.1\, Mekar Jaya\, Kec. Sukmajaya\, Kota Depok\, Jawa Barat\, 16454\, Indonesia
CATEGORIES:Ibadah Minggu
ATTACH;FMTTYPE=image/jpeg:https://www.santomatheusdepok.org/wp-content/uploads/2021/05/WhatsApp-Image-2021-03-17-at-18.46.23.jpeg
END:VEVENT
BEGIN:VEVENT
DTSTART;TZID=Asia/Krasnoyarsk:20210904T080000
DTEND;TZID=Asia/Krasnoyarsk:20210905T170000
DTSTAMP:20260424T060819
CREATED:20210526T141652Z
LAST-MODIFIED:20210526T143115Z
UID:497-1630742400-1630861200@www.santomatheusdepok.org
SUMMARY:HM Biasa XXIII
DESCRIPTION:Hari\nTgl\nKeterangan\nTL\nKoor\nTata Laksana\nTata Bunga\nKebersihan\nOrganis\nLektor\nMazmur\n\n\nSabtu\n4\n\nHM Biasa XXIII\n\nB\nPaulus\nWKRI\n\nWKRI\n\n\nFX\n\nYohana Esperansa\nGregorius Angga\nPiet Harjono\n\n\nMinggu\n5\nB\nSPM\nFX\nHiasinta Galistheda\nEmilia\nAgnes Diah Paramita
URL:https://www.santomatheusdepok.org/event/hm-biasa-xxiii/
LOCATION:Gereja Santo Matheus Depok\, Jl. Sadewa Raya No.1\, Mekar Jaya\, Kec. Sukmajaya\, Kota Depok\, Jawa Barat\, 16454\, Indonesia
CATEGORIES:Ibadah Minggu
ATTACH;FMTTYPE=image/jpeg:https://www.santomatheusdepok.org/wp-content/uploads/2021/05/WhatsApp-Image-2021-03-17-at-18.46.23.jpeg
END:VEVENT
BEGIN:VEVENT
DTSTART;TZID=Asia/Krasnoyarsk:20210903T080000
DTEND;TZID=Asia/Krasnoyarsk:20210903T170000
DTSTAMP:20260424T060819
CREATED:20210526T141504Z
LAST-MODIFIED:20210526T143032Z
UID:495-1630656000-1630688400@www.santomatheusdepok.org
SUMMARY:Jumat Pertama
DESCRIPTION:Hari\nTgl\nKeterangan\nTL\nKoor\nTata Laksana\nTata Bunga\nKebersihan\nOrganis\nLektor\nMazmur\n\n\nJumat\n3\nJumat Pertama\nB\nFIDE\nOMK\nWKRI\nFX\nMaria Michela Rosaria\nNovena KS
URL:https://www.santomatheusdepok.org/event/jumat-pertama-4/
LOCATION:Gereja Santo Matheus Depok\, Jl. Sadewa Raya No.1\, Mekar Jaya\, Kec. Sukmajaya\, Kota Depok\, Jawa Barat\, 16454\, Indonesia
CATEGORIES:Ibadah Jumat
ATTACH;FMTTYPE=image/jpeg:https://www.santomatheusdepok.org/wp-content/uploads/2021/05/WhatsApp-Image-2021-03-17-at-18.46.23.jpeg
END:VEVENT
BEGIN:VEVENT
DTSTART;TZID=Asia/Krasnoyarsk:20210828T080000
DTEND;TZID=Asia/Krasnoyarsk:20210829T170000
DTSTAMP:20260424T060819
CREATED:20210526T141359Z
LAST-MODIFIED:20210526T143018Z
UID:493-1630137600-1630256400@www.santomatheusdepok.org
SUMMARY:HM Biasa XXII
DESCRIPTION:Hari\nTgl\nKeterangan\nTL\nKoor\nTata Laksana\nTata Bunga\nKebersihan\nOrganis\nLektor\nMazmur\n\n\nSabtu\n28\n\nHM Biasa XXII\n\nB\nPetrus\nPetrus\n\nPetrus\n\n\nElizabeth\n\nCatherine\nAnna T\nPaulus Cahyo\n\n\nMinggu\n29\nB\nGregorius\nElizabeth\nAnastasia K Niken\nJeani Lamongi\nStefani Ayu Paramita
URL:https://www.santomatheusdepok.org/event/hm-biasa-xxii/
LOCATION:Gereja Santo Matheus Depok\, Jl. Sadewa Raya No.1\, Mekar Jaya\, Kec. Sukmajaya\, Kota Depok\, Jawa Barat\, 16454\, Indonesia
CATEGORIES:Ibadah Minggu
ATTACH;FMTTYPE=image/jpeg:https://www.santomatheusdepok.org/wp-content/uploads/2021/05/WhatsApp-Image-2021-03-17-at-18.46.23.jpeg
END:VEVENT
BEGIN:VEVENT
DTSTART;TZID=Asia/Krasnoyarsk:20210821T080000
DTEND;TZID=Asia/Krasnoyarsk:20210822T170000
DTSTAMP:20260424T060819
CREATED:20210526T141326Z
LAST-MODIFIED:20210526T142948Z
UID:491-1629532800-1629651600@www.santomatheusdepok.org
SUMMARY:HM Biasa XXI
DESCRIPTION:Hari\nTgl\nKeterangan\nTL\nKoor\nTata Laksana\nTata Bunga\nKebersihan\nOrganis\nLektor\nMazmur\n\n\nSabtu\n21\n\nHM Biasa XXI\n\nB\nYoseph\nIgnatius\n\nIgnatius\n\n\nPetrus\n\nIrene tantri H\nAmalia K\nPaula\n\n\nMinggu\n22\nB\nOMK\nYoseph\nCatherine\nAgnes D P\nGrace Marcella
URL:https://www.santomatheusdepok.org/event/hm-biasa-xxi/
LOCATION:Gereja Santo Matheus Depok\, Jl. Sadewa Raya No.1\, Mekar Jaya\, Kec. Sukmajaya\, Kota Depok\, Jawa Barat\, 16454\, Indonesia
CATEGORIES:Ibadah Minggu
ATTACH;FMTTYPE=image/jpeg:https://www.santomatheusdepok.org/wp-content/uploads/2021/05/WhatsApp-Image-2021-03-17-at-18.46.23.jpeg
END:VEVENT
BEGIN:VEVENT
DTSTART;TZID=Asia/Krasnoyarsk:20210817T080000
DTEND;TZID=Asia/Krasnoyarsk:20210817T170000
DTSTAMP:20260424T060819
CREATED:20210526T141202Z
LAST-MODIFIED:20210526T141202Z
UID:489-1629187200-1629219600@www.santomatheusdepok.org
SUMMARY:Hari Raya Kemerdekaan Republik Indonesia
DESCRIPTION:Hari\nTgl\nKeterangan\nTL\nKoor\nTata Laksana\nTata Bunga\nKebersihan\nOrganis\nLektor\nMazmur\n\n\nSelasa\n17\nHari Raya Kemerdekaan Republik Indonesia\nB\nYakobus\nYohanes\nDPP\nSPM\nAnastasia K Niken\nLaurentius baskara\nAnne Riyanti
URL:https://www.santomatheusdepok.org/event/hari-raya-kemerdekaan-republik-indonesia/
LOCATION:Gereja Santo Matheus Depok\, Jl. Sadewa Raya No.1\, Mekar Jaya\, Kec. Sukmajaya\, Kota Depok\, Jawa Barat\, 16454\, Indonesia
CATEGORIES:Hari Raya
END:VEVENT
BEGIN:VEVENT
DTSTART;TZID=Asia/Krasnoyarsk:20210815T080000
DTEND;TZID=Asia/Krasnoyarsk:20210815T170000
DTSTAMP:20260424T060819
CREATED:20210526T141043Z
LAST-MODIFIED:20210526T141053Z
UID:486-1629014400-1629046800@www.santomatheusdepok.org
SUMMARY:Hari Raya SP Maria Diangkat Ke Surga
DESCRIPTION:Hari\nTgl\nKeterangan\nTL\nKoor\nTata Laksana\nTata Bunga\nKebersihan\nOrganis\nLektor\nMazmur\n\n\nMinggu\n15\nHari Raya SP Maria Diangkat Ke Surga\nB\nElizabeth\nSPM\nDPP\nGregorius Agung\nHiasinta Galistheda\nAnne R\nAgnes Diah Paramita
URL:https://www.santomatheusdepok.org/event/hari-raya-sp-maria-diangkat-ke-surga/
LOCATION:Gereja Santo Matheus Depok\, Jl. Sadewa Raya No.1\, Mekar Jaya\, Kec. Sukmajaya\, Kota Depok\, Jawa Barat\, 16454\, Indonesia
CATEGORIES:Hari Raya
END:VEVENT
BEGIN:VEVENT
DTSTART;TZID=Asia/Krasnoyarsk:20210814T080000
DTEND;TZID=Asia/Krasnoyarsk:20210814T170000
DTSTAMP:20260424T060819
CREATED:20210526T140856Z
LAST-MODIFIED:20210526T140856Z
UID:483-1628928000-1628960400@www.santomatheusdepok.org
SUMMARY:Vigili Hari Raya SP Maria Diangkat ke Surga
DESCRIPTION:Hari\nTgl\nKeterangan\nTL\nKoor\nTata Laksana\nTata Bunga\nKebersihan\nOrganis\nLektor\nMazmur\n\n\nSabtu\n14\nVigili Hari Raya SP Maria Diangkat ke Surga\nB\nIgnatius\nGregorius\nDPP\nGregorius Agung\nYohana Esperansa\nNatasya E\nFernandus Antonius Sinaga
URL:https://www.santomatheusdepok.org/event/vigili-hari-raya-sp-maria-diangkat-ke-surga/
LOCATION:Gereja Santo Matheus Depok\, Jl. Sadewa Raya No.1\, Mekar Jaya\, Kec. Sukmajaya\, Kota Depok\, Jawa Barat\, 16454\, Indonesia
CATEGORIES:Hari Raya
END:VEVENT
BEGIN:VEVENT
DTSTART;TZID=Asia/Krasnoyarsk:20210807T080000
DTEND;TZID=Asia/Krasnoyarsk:20210808T170000
DTSTAMP:20260424T060819
CREATED:20210526T140746Z
LAST-MODIFIED:20210526T142645Z
UID:481-1628323200-1628442000@www.santomatheusdepok.org
SUMMARY:HM Biasa XIX
DESCRIPTION:Hari\nTgl\nKeterangan\nTL\nKoor\nTata Laksana\nTata Bunga\nKebersihan\nOrganis\nLektor\nMazmur\n\n\nSabtu\n7\n\nHM Biasa XIX\n\nB\nWKRI\nYakobus\n\nYakobus\n\n\nPaulus\n\nYoan Pricilia\nGrace M R\nBernadete Inge Ambar\n\n\nMinggu\n8\nB\nKoor Cowok\nPaulus\nF Sulis Wicahyadi\nKristiyanti P\nIne Maria
URL:https://www.santomatheusdepok.org/event/hm-biasa-xix/
LOCATION:Gereja Santo Matheus Depok\, Jl. Sadewa Raya No.1\, Mekar Jaya\, Kec. Sukmajaya\, Kota Depok\, Jawa Barat\, 16454\, Indonesia
CATEGORIES:Ibadah Minggu
ATTACH;FMTTYPE=image/jpeg:https://www.santomatheusdepok.org/wp-content/uploads/2021/05/WhatsApp-Image-2021-03-17-at-18.46.23.jpeg
END:VEVENT
BEGIN:VEVENT
DTSTART;TZID=Asia/Krasnoyarsk:20210731T080000
DTEND;TZID=Asia/Krasnoyarsk:20210801T170000
DTSTAMP:20260424T060819
CREATED:20210526T140629Z
LAST-MODIFIED:20210526T142201Z
UID:479-1627718400-1627837200@www.santomatheusdepok.org
SUMMARY:HM Biasa XVIII
DESCRIPTION:Hari\nTgl\nKeterangan\nTL\nKoor\nTata Laksana\nTata Bunga\nKebersihan\nOrganis\nLektor\nMazmur\n\n\nSabtu\n31\n\nHM Biasa XVIII\n\nB\nFX\nWKRI\nWKRI\nFX\nIrene tantri H\nUrsula Ekanurani\nAnna Triprasidhani\n\n\nMinggu\n1\n\nGCC\nFX\nWKRI\nFX\nJohan Papa\nC Endah\nAnastasia E Primasanti
URL:https://www.santomatheusdepok.org/event/hm-biasa-xviii/
LOCATION:Gereja Santo Matheus Depok\, Jl. Sadewa Raya No.1\, Mekar Jaya\, Kec. Sukmajaya\, Kota Depok\, Jawa Barat\, 16454\, Indonesia
CATEGORIES:Ibadah Minggu
ATTACH;FMTTYPE=image/jpeg:https://www.santomatheusdepok.org/wp-content/uploads/2021/05/WhatsApp-Image-2021-03-17-at-18.46.23.jpeg
END:VEVENT
BEGIN:VEVENT
DTSTART;TZID=Asia/Krasnoyarsk:20210724T080000
DTEND;TZID=Asia/Krasnoyarsk:20210725T170000
DTSTAMP:20260424T060819
CREATED:20210526T140536Z
LAST-MODIFIED:20210526T142714Z
UID:477-1627113600-1627232400@www.santomatheusdepok.org
SUMMARY:HM Biasa XVII
DESCRIPTION:Hari\nTgl\nKeterangan\nTL\nKoor\nTata Laksana\nTata Bunga\nKebersihan\nOrganis\nLektor\nMazmur\n\n\nSabtu\n24\n\nHM Biasa XVII\n\nB\nSPM\nElizabeth\n\nElizabeth\n\n\nOMK\n\nHiasinta Galistheda\nFlorentina Ari Kartika\nTeofilus I Damanik\n\n\nMinggu\n25\nB\nYohanes\nOMK\nHeneng\nWelmina J Umbas\nJulinta Paulina Ginting
URL:https://www.santomatheusdepok.org/event/hm-biasa-xvii/
LOCATION:Gereja Santo Matheus Depok\, Jl. Sadewa Raya No.1\, Mekar Jaya\, Kec. Sukmajaya\, Kota Depok\, Jawa Barat\, 16454\, Indonesia
CATEGORIES:Ibadah Minggu
ATTACH;FMTTYPE=image/jpeg:https://www.santomatheusdepok.org/wp-content/uploads/2021/05/WhatsApp-Image-2021-03-17-at-18.46.23.jpeg
END:VEVENT
BEGIN:VEVENT
DTSTART;TZID=Asia/Krasnoyarsk:20210717T080000
DTEND;TZID=Asia/Krasnoyarsk:20210718T170000
DTSTAMP:20260424T060819
CREATED:20210526T140445Z
LAST-MODIFIED:20210526T140445Z
UID:475-1626508800-1626627600@www.santomatheusdepok.org
SUMMARY:HM Biasa XVI
DESCRIPTION:Hari\nTgl\nKeterangan\nTL\nKoor\nTata Laksana\nTata Bunga\nKebersihan\nOrganis\nLektor\nMazmur\n\n\nSabtu\n17\n\nHM Biasa XVI\n\nB\nKoor Cowok\nYoseph\n\nYoseph\n\n\nPetrus\n\nF Sulis Wicahyadi\nReny\nLaurentia Pingkan DK\n\n\nMinggu\n18\nB\nPaulus\nPetrus\nJohan Papa\nB Wikasari\nPiet Harjono
URL:https://www.santomatheusdepok.org/event/hm-biasa-xvi/
LOCATION:Gereja Santo Matheus Depok\, Jl. Sadewa Raya No.1\, Mekar Jaya\, Kec. Sukmajaya\, Kota Depok\, Jawa Barat\, 16454\, Indonesia
CATEGORIES:Ibadah Minggu
END:VEVENT
BEGIN:VEVENT
DTSTART;TZID=Asia/Krasnoyarsk:20210710T080000
DTEND;TZID=Asia/Krasnoyarsk:20210711T170000
DTSTAMP:20260424T060819
CREATED:20210526T140319Z
LAST-MODIFIED:20210526T142116Z
UID:473-1625904000-1626022800@www.santomatheusdepok.org
SUMMARY:HM Biasa XV
DESCRIPTION:Hari\nTgl\nKeterangan\nTL\nKoor\nTata Laksana\nTata Bunga\nKebersihan\nOrganis\nLektor\nMazmur\n\n\nSabtu\n10\n\nHM Biasa XV\n\nB\nPetrus\nYohanes\n\nYohanes\n\n\nIgnatius\n\nCatherine\nAviarini\nPaulus Cahyo\n\n\nMinggu\n11\nB\nGregorius\nIgnatius\nAnastasia K Niken\nEllena Valencia\nGrace Marcella
URL:https://www.santomatheusdepok.org/event/hm-biasa-xv/
LOCATION:Gereja Santo Matheus Depok\, Jl. Sadewa Raya No.1\, Mekar Jaya\, Kec. Sukmajaya\, Kota Depok\, Jawa Barat\, 16454\, Indonesia
CATEGORIES:Ibadah Minggu
ATTACH;FMTTYPE=image/jpeg:https://www.santomatheusdepok.org/wp-content/uploads/2021/05/WhatsApp-Image-2021-03-17-at-18.46.23.jpeg
END:VEVENT
BEGIN:VEVENT
DTSTART;TZID=Asia/Krasnoyarsk:20210703T080000
DTEND;TZID=Asia/Krasnoyarsk:20210704T170000
DTSTAMP:20260424T060819
CREATED:20210526T140236Z
LAST-MODIFIED:20210526T142927Z
UID:471-1625299200-1625418000@www.santomatheusdepok.org
SUMMARY:HM Biasa XIV
DESCRIPTION:Hari\nTgl\nKeterangan\nTL\nKoor\nTata Laksana\nTata Bunga\nKebersihan\nOrganis\nLektor\nMazmur\n\n\nSabtu\n3\n\nHM Biasa XIV\n\nB\nYoseph\nGregorius\n\nGregorius\n\n\nPaulus\n\nIrene tantri H\nEmilia\nAnastasia E Primasanti\n\n\nMinggu\n4\nB\nOMK\nSPM\nCatherine\nBernadete Inge Ambar\nStefani Ayu Paramita
URL:https://www.santomatheusdepok.org/event/hm-biasa-xiv/
LOCATION:Gereja Santo Matheus Depok\, Jl. Sadewa Raya No.1\, Mekar Jaya\, Kec. Sukmajaya\, Kota Depok\, Jawa Barat\, 16454\, Indonesia
CATEGORIES:Ibadah Minggu
ATTACH;FMTTYPE=image/jpeg:https://www.santomatheusdepok.org/wp-content/uploads/2021/05/WhatsApp-Image-2021-03-17-at-18.46.23.jpeg
END:VEVENT
END:VCALENDAR