BEGIN:VCALENDAR
VERSION:2.0
PRODID:-//Santo Matheus Depok - ECPv6.15.20//NONSGML v1.0//EN
CALSCALE:GREGORIAN
METHOD:PUBLISH
X-WR-CALNAME:Santo Matheus Depok
X-ORIGINAL-URL:https://www.santomatheusdepok.org
X-WR-CALDESC:Events for Santo Matheus Depok
REFRESH-INTERVAL;VALUE=DURATION:PT1H
X-Robots-Tag:noindex
X-PUBLISHED-TTL:PT1H
BEGIN:VTIMEZONE
TZID:Asia/Krasnoyarsk
BEGIN:STANDARD
TZOFFSETFROM:+0700
TZOFFSETTO:+0700
TZNAME:+07
DTSTART:20200101T000000
END:STANDARD
END:VTIMEZONE
BEGIN:VEVENT
DTSTART;VALUE=DATE:20210611
DTEND;VALUE=DATE:20210612
DTSTAMP:20260421T203243
CREATED:20210601T181456Z
LAST-MODIFIED:20210601T181456Z
UID:1238-1623369600-1623455999@www.santomatheusdepok.org
SUMMARY:Hari Raya Hati Yesus Yang Maha Kudus
DESCRIPTION:“Marilah kepada-Ku\, semua yang letih lesu dan berbeban berat\, Aku akan memberi kelegaan kepadamu. Pikullah kuk yang Kupasang dan belajarlah pada-Ku\, karena Aku lemah lembut dan rendah hati dan jiwamu akan mendapat ketenangan. Sebab kuk yang Kupasang itu enak dan beban-Ku pun ringan.” (Matius 11:28-30)
URL:https://www.santomatheusdepok.org/event/hari-raya-hati-yesus-yang-maha-kudus-2/
LOCATION:Jawa Barat
CATEGORIES:Hari Raya
ATTACH;FMTTYPE=image/jpeg:https://www.santomatheusdepok.org/wp-content/uploads/2021/06/Hati-kudus-yesusss-1-1.jpg
END:VEVENT
BEGIN:VEVENT
DTSTART;TZID=Asia/Krasnoyarsk:20210607T080000
DTEND;TZID=Asia/Krasnoyarsk:20210607T170000
DTSTAMP:20260421T203243
CREATED:20210526T135748Z
LAST-MODIFIED:20210526T135955Z
UID:457-1623052800-1623085200@www.santomatheusdepok.org
SUMMARY:Hari Raya Hati Yesus Yang Maha Kudus
DESCRIPTION:Hari\nTgl\nKeterangan\nTL\nKoor\nTata Laksana\nTata Bunga\nKebersihan\nOrganis\nLektor\nMazmur\n\n\nJumat\n7\nHari Raya Hati Yesus Yang Maha Kudus\nB\nYohanes\nYoseph\nPetrus\nYohanes\nHeneng\nAnne R\nAnna Triprasidhani
URL:https://www.santomatheusdepok.org/event/hari-raya-hati-yesus-yang-maha-kudus/
LOCATION:Gereja Santo Matheus Depok\, Jl. Sadewa Raya No.1\, Mekar Jaya\, Kec. Sukmajaya\, Kota Depok\, Jawa Barat\, 16454\, Indonesia
CATEGORIES:Hari Raya
END:VEVENT
BEGIN:VEVENT
DTSTART;TZID=Asia/Krasnoyarsk:20210605T080000
DTEND;TZID=Asia/Krasnoyarsk:20210606T170000
DTSTAMP:20260421T203243
CREATED:20210526T135650Z
LAST-MODIFIED:20210602T071922Z
UID:455-1622880000-1622998800@www.santomatheusdepok.org
SUMMARY:Hari Raya Tubuh dan Darah Kristus
DESCRIPTION:Hari\nTgl\nKeterangan\nTL\nKoor\nTata Laksana\nTata Bunga\nKebersihan\nOrganis\nLektor\nMazmur\n\n\nSabtu\n5\n\nHari Raya Tubuh dan Darah Kristus\n\nB\nPaulus\nYohanes\n\nYohanes\n\n\nIgnatius\n\nIrene tantri H\nGrace M R\nTeofilus I Damanik\n\n\nMinggu\n6\nB\nSPM\nIgnatius\nHiasinta Galistheda\nNatasya E\nJulinta Paulina Ginting
URL:https://www.santomatheusdepok.org/event/hari-raya-tubuh-dan-darah-kristus/
LOCATION:Gereja Santo Matheus Depok\, Jl. Sadewa Raya No.1\, Mekar Jaya\, Kec. Sukmajaya\, Kota Depok\, Jawa Barat\, 16454\, Indonesia
CATEGORIES:Hari Raya
ATTACH;FMTTYPE=image/png:https://www.santomatheusdepok.org/wp-content/uploads/2021/05/Screenshot-2021-06-02-141738-1.png
END:VEVENT
BEGIN:VEVENT
DTSTART;TZID=Asia/Krasnoyarsk:20210529T080000
DTEND;TZID=Asia/Krasnoyarsk:20210530T170000
DTSTAMP:20260421T203243
CREATED:20210526T135403Z
LAST-MODIFIED:20210526T135559Z
UID:448-1622275200-1622394000@www.santomatheusdepok.org
SUMMARY:Hari Raya Tri Tunggal Maha Kudus
DESCRIPTION:Hari\nTgl\nKeterangan\nTL\nKoor\nTata Laksana\nTata Bunga\nKebersihan\nOrganis\nLektor\nMazmur\n\n\nSabtu\n29\n\nHari Raya Tri Tunggal Maha Kudus\n\nB\nPetrus\nPaulus\n\nPaulus\n\n\nGregorius Agung\n\nCatherine\nUrsula Ekanurani\nYohana Esperansa\n\n\nMinggu\n30\nB\nGregorius\nGregorius\nPatricia Miranda\nC Endah\nAnne Riyanti
URL:https://www.santomatheusdepok.org/event/hari-raya-tri-tunggal-maha-kudus/
LOCATION:Gereja Santo Matheus Depok\, Jl. Sadewa Raya No.1\, Mekar Jaya\, Kec. Sukmajaya\, Kota Depok\, Jawa Barat\, 16454\, Indonesia
CATEGORIES:Hari Raya
END:VEVENT
BEGIN:VEVENT
DTSTART;TZID=Asia/Krasnoyarsk:20210522T080000
DTEND;TZID=Asia/Krasnoyarsk:20210523T170000
DTSTAMP:20260421T203243
CREATED:20210526T135321Z
LAST-MODIFIED:20210526T135321Z
UID:446-1621670400-1621789200@www.santomatheusdepok.org
SUMMARY:Hari Raya Pentakosta
DESCRIPTION:Hari\nTgl\nKeterangan\nTL\nKoor\nTata Laksana\nTata Bunga\nKebersihan\nOrganis\nLektor\nMazmur\n\n\nSabtu\n22\n\nHari Raya Pentakosta\n\nB\nYoseph\nFX\n\nFX\n\n\nYakobus\n\nIrene tantri H\nFlorentina Ari Kartika\nPaula\n\n\nMinggu\n23\nB\nOMK\nYakobus\nCatherine\nWelmina J Umbas\nGrace Marcella
URL:https://www.santomatheusdepok.org/event/hari-raya-pentakosta/
LOCATION:Jawa Barat
CATEGORIES:Hari Raya
END:VEVENT
BEGIN:VEVENT
DTSTART;TZID=Asia/Krasnoyarsk:20210513T080000
DTEND;TZID=Asia/Krasnoyarsk:20210513T170000
DTSTAMP:20260421T203243
CREATED:20210526T134320Z
LAST-MODIFIED:20210526T134732Z
UID:429-1620892800-1620925200@www.santomatheusdepok.org
SUMMARY:Hari Raya Kenaikan Tuhan
DESCRIPTION:Hari\nTgl\nKeterangan\nTL\nKoor\nTata Laksana\nTata Bunga\nKebersihan\nOrganis\nLektor\nMazmur\n\n\nKamis\n13\nHari Raya Kenaikan Tuhan\nB\nSPM\nPetrus\nDPP\nDPP\nYohana Esperansa\nJeani Lamongi\nFernandus Antonius Sinaga
URL:https://www.santomatheusdepok.org/event/hari-raya-kenaikan-tuhan/
LOCATION:Gereja Santo Matheus Depok\, Jl. Sadewa Raya No.1\, Mekar Jaya\, Kec. Sukmajaya\, Kota Depok\, Jawa Barat\, 16454\, Indonesia
CATEGORIES:Hari Raya
END:VEVENT
END:VCALENDAR